BEGIN:VCALENDAR
VERSION:2.0
BEGIN:VEVENT
URL:https://iahub.foxizecloud.com/cursos/crea-tu-avatar-con-ia--de-la-idea-a-un-personaje-listo-para-crecer-en-redes-22-25?edicion=25
DTSTART:20260522T170000
DTEND:20260522T210000
SUMMARY:Iahub - Crea tu avatar con IA: de la idea a un personaje listo para crecer en redes Crea tu avatar con IA: de la idea a un personaje listo para crecer en redes
DESCRIPTION:Crea tu avatar con IA: de la idea a un personaje listo para crecer en redes\n\n
LOCATION:IA Hub Barcelona
END:VEVENT
END:VCALENDAR