BEGIN:VCALENDAR
VERSION:2.0
BEGIN:VEVENT
URL:https://iahub.foxizecloud.com/cursos/vibe-coding-para-creativos--transforma-una-idea-en-una-web-publicada-sin-escribir-una-linea-de-codigo-20-23?edicion=23
DTSTART:20260521T190000
DTEND:20260521T210000
SUMMARY:Iahub - Vibe coding para creativos: transforma una idea en una web publicada sin escribir una línea de código coding para creativos
DESCRIPTION:Vibe coding para creativos: transforma una idea en una web publicada sin escribir una línea de código\n\n
LOCATION:IA Hub Barcelona
END:VEVENT
END:VCALENDAR